BEGIN:VCALENDAR
VERSION:2.0
PRODID:-//Horus Heresy: Legions - ECPv6.8.2.1//NONSGML v1.0//EN
CALSCALE:GREGORIAN
METHOD:PUBLISH
X-WR-CALNAME:Horus Heresy: Legions
X-ORIGINAL-URL:https://www.horusheresylegions.com
X-WR-CALDESC:Events for Horus Heresy: Legions
REFRESH-INTERVAL;VALUE=DURATION:PT1H
X-Robots-Tag:noindex
X-PUBLISHED-TTL:PT1H
BEGIN:VTIMEZONE
TZID:UTC
BEGIN:STANDARD
TZOFFSETFROM:+0000
TZOFFSETTO:+0000
TZNAME:UTC
DTSTART:20220101T000000
END:STANDARD
END:VTIMEZONE
BEGIN:VEVENT
DTSTART;TZID=UTC:20220604T080000
DTEND;TZID=UTC:20220604T170000
DTSTAMP:20260422T125104
CREATED:20220531T114551Z
LAST-MODIFIED:20220606T134318Z
UID:13052-1654329600-1654362000@www.horusheresylegions.com
SUMMARY:198th VK.com Weekly Tournament
DESCRIPTION:Format: Best 2 of 3 matches; Conquest with announcing 3 Warlords\, but for a win in a round you need only to win with 2 of them; Single Elimination. \nThe tournament is going in Russian\, so you may need to use a translator to participate\, also you’ll need a vk.com account. \nRegistration will be there (topic will be open on the day of the tournament\, Sunday 5th\, and till 5.30 PM GMT +3\, the tournament will start at 6 PM):\nhttps://vk.com/topic-160179143_48864052 \nAll other info with more detailed rules and prizes in English:\nhttps://vk.com/horusheresylegions?w=page-160179143_54036721
URL:https://www.horusheresylegions.com/event/198th-vk-com-weekly-tournament/
LOCATION:vk
END:VEVENT
BEGIN:VEVENT
DTSTART;TZID=UTC:20220604T080000
DTEND;TZID=UTC:20220604T170000
DTSTAMP:20260422T125104
CREATED:20220531T124128Z
LAST-MODIFIED:20220531T124128Z
UID:13060-1654329600-1654362000@www.horusheresylegions.com
SUMMARY:June Week 1 Discord Tournament
DESCRIPTION:
URL:https://www.horusheresylegions.com/event/june-week-1-discord-tournament/
LOCATION:Legions Discord channel
END:VEVENT
END:VCALENDAR