BEGIN:VCALENDAR
VERSION:2.0
PRODID:-//Horus Heresy: Legions - ECPv6.8.2.1//NONSGML v1.0//EN
CALSCALE:GREGORIAN
METHOD:PUBLISH
X-WR-CALNAME:Horus Heresy: Legions
X-ORIGINAL-URL:https://www.horusheresylegions.com
X-WR-CALDESC:Events for Horus Heresy: Legions
REFRESH-INTERVAL;VALUE=DURATION:PT1H
X-Robots-Tag:noindex
X-PUBLISHED-TTL:PT1H
BEGIN:VTIMEZONE
TZID:UTC
BEGIN:STANDARD
TZOFFSETFROM:+0000
TZOFFSETTO:+0000
TZNAME:UTC
DTSTART:20220101T000000
END:STANDARD
END:VTIMEZONE
BEGIN:VEVENT
DTSTART;TZID=UTC:20220625T080000
DTEND;TZID=UTC:20220625T170000
DTSTAMP:20260420T190039
CREATED:20220531T114714Z
LAST-MODIFIED:20220627T112455Z
UID:13058-1656144000-1656176400@www.horusheresylegions.com
SUMMARY:201st VK.com Weekly Tournament
DESCRIPTION:Format: Best 2 of 3 matches; Conquest with announcing 3 Warlords\, but for a win in a round you need only to win with 2 of them; Single Elimination. \nThe tournament is going in Russian\, so you may need to use a translator to participate\, also you’ll need a vk.com account. \nRegistration will be there (topic will be open on the day of the tournament\, Sunday 26th\, and till 5.30 PM GMT +3\, the tournament will start at 6 PM):\nhttps://vk.com/topic-160179143_48909070 \nAll other info with more detailed rules and prizes in English:\nhttps://vk.com/horusheresylegions?w=page-160179143_54029682
URL:https://www.horusheresylegions.com/event/201st-vk-com-weekly-tournament/
LOCATION:vk
END:VEVENT
BEGIN:VEVENT
DTSTART;TZID=UTC:20220625T080000
DTEND;TZID=UTC:20220625T170000
DTSTAMP:20260420T190039
CREATED:20220531T124258Z
LAST-MODIFIED:20220531T124258Z
UID:13067-1656144000-1656176400@www.horusheresylegions.com
SUMMARY:June Week 4 Discord Tournament
DESCRIPTION:
URL:https://www.horusheresylegions.com/event/june-week-4-discord-tournament/
LOCATION:Legions Discord channel
END:VEVENT
END:VCALENDAR