BEGIN:VCALENDAR
VERSION:2.0
PRODID:-//Horus Heresy: Legions - ECPv6.8.2.1//NONSGML v1.0//EN
CALSCALE:GREGORIAN
METHOD:PUBLISH
X-WR-CALNAME:Horus Heresy: Legions
X-ORIGINAL-URL:https://www.horusheresylegions.com
X-WR-CALDESC:Events for Horus Heresy: Legions
REFRESH-INTERVAL;VALUE=DURATION:PT1H
X-Robots-Tag:noindex
X-PUBLISHED-TTL:PT1H
BEGIN:VTIMEZONE
TZID:UTC
BEGIN:STANDARD
TZOFFSETFROM:+0000
TZOFFSETTO:+0000
TZNAME:UTC
DTSTART:20230101T000000
END:STANDARD
END:VTIMEZONE
BEGIN:VEVENT
DTSTART;TZID=UTC:20230710T190000
DTEND;TZID=UTC:20230724T190000
DTSTAMP:20260421T193605
CREATED:20230705T150256Z
LAST-MODIFIED:20230705T150256Z
UID:15638-1689015600-1690225200@www.horusheresylegions.com
SUMMARY:2nd New Players Tournament
DESCRIPTION:2nd Tournament for New Players 10/07 – 24/07 19 UTC \nStandard\, Double Elimination\, Off-meta and New Players focus Format  \nFor all other rules concerning the TO’s ruling and tournaments\, check the messages pinned in the lobby thread over on maincord (https://discord.com/channels/423832360438464524/423930441964322826/1122625314309275688).  \n  \nBans \nWarlords on the meta report of July(both High and Low Terra): https://www.horusheresylegions.com/june-2023-meta-report/;\nLoyalist and Traitor Titans;\nIsstvan 3 cards; \nOthers possibly. \n  \nPrizes \n1st: 2500 Coins + 1 Legendary of Choice or 10 tickets\n2nd: 2000 Coins\n3rd: 1000 Coins\n5th: 500 Coins\n(Based on 8-16 Players)
URL:https://www.horusheresylegions.com/event/2nd-new-players-tournament/
END:VEVENT
END:VCALENDAR