BEGIN:VCALENDAR
VERSION:2.0
PRODID:-//Horus Heresy: Legions - ECPv6.8.2.1//NONSGML v1.0//EN
CALSCALE:GREGORIAN
METHOD:PUBLISH
X-ORIGINAL-URL:https://www.horusheresylegions.com
X-WR-CALDESC:Events for Horus Heresy: Legions
REFRESH-INTERVAL;VALUE=DURATION:PT1H
X-Robots-Tag:noindex
X-PUBLISHED-TTL:PT1H
BEGIN:VTIMEZONE
TZID:UTC
BEGIN:STANDARD
TZOFFSETFROM:+0000
TZOFFSETTO:+0000
TZNAME:UTC
DTSTART:20230101T000000
END:STANDARD
END:VTIMEZONE
BEGIN:VEVENT
DTSTART;TZID=UTC:20230725T190000
DTEND;TZID=UTC:20230731T190000
DTSTAMP:20260421T212201
CREATED:20230705T150541Z
LAST-MODIFIED:20230705T150541Z
UID:15640-1690311600-1690830000@www.horusheresylegions.com
SUMMARY:Weeklong Tournament 25/07 - 31/07
DESCRIPTION:Standard\, 0% Aggro\, 100% Fun Format \nConquest – Players must win 2 matches with 2 different warlords from different factions to win the round. Warlords must be put in the sheet provided before the beginning of the tournament. Therefore you can use the warlord you lost with again\, but you can not use it again if you win with it. \nStandard – Isstvan 3 cards\, cards only playable in Legacy mode\, are banned. \n0% Aggro\, 100% Fun – Your warlord can not attack and you can not put 2 copies of the same card in your deck. Canis can not attack with his arms. \nCheck the banlist and other details in the tournament’s challonge page.
URL:https://www.horusheresylegions.com/event/weeklong-tournament-25-07-31-07/
END:VEVENT
END:VCALENDAR