BEGIN:VCALENDAR
VERSION:2.0
PRODID:-//Horus Heresy: Legions - ECPv6.8.2.1//NONSGML v1.0//EN
CALSCALE:GREGORIAN
METHOD:PUBLISH
X-ORIGINAL-URL:https://www.horusheresylegions.com
X-WR-CALDESC:Events for Horus Heresy: Legions
REFRESH-INTERVAL;VALUE=DURATION:PT1H
X-Robots-Tag:noindex
X-PUBLISHED-TTL:PT1H
BEGIN:VTIMEZONE
TZID:UTC
BEGIN:STANDARD
TZOFFSETFROM:+0000
TZOFFSETTO:+0000
TZNAME:UTC
DTSTART:20230101T000000
END:STANDARD
END:VTIMEZONE
BEGIN:VEVENT
DTSTART;TZID=UTC:20230821T190000
DTEND;TZID=UTC:20230831T190000
DTSTAMP:20260421T180440
CREATED:20230814T094050Z
LAST-MODIFIED:20230814T094050Z
UID:16007-1692644400-1693508400@www.horusheresylegions.com
SUMMARY:3rd Tournament for New Players 21/08 - 31/08 19 UTC
DESCRIPTION:General rules of conduct – Once the tournament starts or once you win a round or lose your round for the first time\, you have 24 hours to contact your opponent to schedule a game\, you then have at most 72 hours from the start of the tournament or from your previous victory/first loss to fight your next matches. For all other rules concerning the TO’s ruling and tournaments\, check the messages pinned in the lobby thread over on the main discord. \nConquest – Players must win 2 matches with 2 different warlords from different factions to win the round. Warlords must be put in the sheet provided before the beginning of the tournament. You can use the warlord you lost with again\, but you can not use it again if you win with it. \nStandard – Isstvan 3 cards and Isstvan 5 cards for IH\, Sallie and RG\, cards only playable in Legacy mode\, are banned. \nNew Players focus – Players who are level 50 or above can not use the warlords present in the last meta report and they can neither use legendaries nor include more than one copy of the same epic card in their decks (warlords excluded from both of these two last restrictions). All this on top of following the other rules. Players who are level 100 (those who have at least one skull near their name in the game) or more can not use epic cards and they can’t use legendary warlords on top of the restrictions concerning all players and level 50 or above players.\nSign up over on challonge to participate: https://challonge.com/it/xdzaxack and make sure to put all required information on the sheet: https://docs.google.com/spreadsheets/d/1aJZRz3adubgqnhYVqGcq2e4AEleH17eYVc7sr32hdpA/edit?usp=sharing
URL:https://www.horusheresylegions.com/event/3rd-tournament-for-new-players-21-08-31-08-19-utc/
END:VEVENT
BEGIN:VEVENT
DTSTART;TZID=UTC:20230827T180000
DTEND;TZID=UTC:20230827T220000
DTSTAMP:20260421T180440
CREATED:20230821T105142Z
LAST-MODIFIED:20230821T105142Z
UID:16117-1693159200-1693173600@www.horusheresylegions.com
SUMMARY:262nd Vk.com weekly tournament
DESCRIPTION:Best 2 of 3 matches; Conquest format. Participants will need to announce all 3 Warlords that will be used during the round. To win a round you need to win with 2 of them; Single Elimination. \nThe tournament is going in Russian\, so you may need to use a translator to participate\, also you’ll need a vk.com account. \nAll other info with more detailed rules and prizes in English:\nhttps://vk.com/horusheresylegions?w=page-160179143_54036721 \nRegistration will be there (topic will be open on the day of the tournament\, Sunday 27th until 5.30 PM GMT +3\, the tournament will start at 6 PM):\nhttps://vk.com/topic-160179143_49432594
URL:https://www.horusheresylegions.com/event/262nd-vk-com-weekly-tournament/
END:VEVENT
END:VCALENDAR