BEGIN:VCALENDAR
VERSION:2.0
PRODID:-//Horus Heresy: Legions - ECPv6.8.2.1//NONSGML v1.0//EN
CALSCALE:GREGORIAN
METHOD:PUBLISH
X-WR-CALNAME:Horus Heresy: Legions
X-ORIGINAL-URL:https://www.horusheresylegions.com
X-WR-CALDESC:Events for Horus Heresy: Legions
REFRESH-INTERVAL;VALUE=DURATION:PT1H
X-Robots-Tag:noindex
X-PUBLISHED-TTL:PT1H
BEGIN:VTIMEZONE
TZID:UTC
BEGIN:STANDARD
TZOFFSETFROM:+0000
TZOFFSETTO:+0000
TZNAME:UTC
DTSTART:20230101T000000
END:STANDARD
END:VTIMEZONE
BEGIN:VEVENT
DTSTART;VALUE=DATE:20230904
DTEND;VALUE=DATE:20230911
DTSTAMP:20260421T163121
CREATED:20230906T105850Z
LAST-MODIFIED:20230906T105850Z
UID:16213-1693785600-1694390399@www.horusheresylegions.com
SUMMARY:4/09 - 10/09 September Challenging tournament
DESCRIPTION:Face set of 6 battles with reward of promo-codes for The Horus Heresy: Legions  and prepare yourself for an ultimate fight for Warpforge Alpha access key! \n  \nRules: \n3 attempts (lives) \nNo warlord limitations \nNo faction limitations \nStandard only  \n  \nYou can play a standard set of battles while you still have lives left.  \nBattle for key is optional and requires all 6 previous battles to be won\, and no retries upon losing even if you have lives left. \n  \nSign up on the tournament’s challenge page.
URL:https://www.horusheresylegions.com/event/4-09-10-09-september-challenging-tournament/
END:VEVENT
END:VCALENDAR