BEGIN:VCALENDAR
VERSION:2.0
PRODID:-//Horus Heresy: Legions - ECPv6.8.2.1//NONSGML v1.0//EN
CALSCALE:GREGORIAN
METHOD:PUBLISH
X-ORIGINAL-URL:https://www.horusheresylegions.com
X-WR-CALDESC:Events for Horus Heresy: Legions
REFRESH-INTERVAL;VALUE=DURATION:PT1H
X-Robots-Tag:noindex
X-PUBLISHED-TTL:PT1H
BEGIN:VTIMEZONE
TZID:UTC
BEGIN:STANDARD
TZOFFSETFROM:+0000
TZOFFSETTO:+0000
TZNAME:UTC
DTSTART:20230101T000000
END:STANDARD
END:VTIMEZONE
BEGIN:VEVENT
DTSTART;VALUE=DATE:20230904
DTEND;VALUE=DATE:20230911
DTSTAMP:20260421T163451
CREATED:20230906T105850Z
LAST-MODIFIED:20230906T105850Z
UID:16213-1693785600-1694390399@www.horusheresylegions.com
SUMMARY:4/09 - 10/09 September Challenging tournament
DESCRIPTION:Face set of 6 battles with reward of promo-codes for The Horus Heresy: Legions  and prepare yourself for an ultimate fight for Warpforge Alpha access key! \n  \nRules: \n3 attempts (lives) \nNo warlord limitations \nNo faction limitations \nStandard only  \n  \nYou can play a standard set of battles while you still have lives left.  \nBattle for key is optional and requires all 6 previous battles to be won\, and no retries upon losing even if you have lives left. \n  \nSign up on the tournament’s challenge page.
URL:https://www.horusheresylegions.com/event/4-09-10-09-september-challenging-tournament/
END:VEVENT
BEGIN:VEVENT
DTSTART;TZID=UTC:20230910T180000
DTEND;TZID=UTC:20230910T220000
DTSTAMP:20260421T163451
CREATED:20230908T103708Z
LAST-MODIFIED:20230908T103708Z
UID:16238-1694368800-1694383200@www.horusheresylegions.com
SUMMARY:264th Vk.com weekly tournament
DESCRIPTION:Format: Best 2 of 3 matches; Conquest with announcing 3 Warlords\, but for a win in a round you need only to win with 2 of them; Single Elimination. \nThe tournament is going in Russian\, so you may need to use a translator to participate\, also you’ll need a vk.com account. \nRegistration will be there (topic will be open on the day of the tournament\, Sunday 10th\, and till 5.30 PM GMT +3\, the tournament will start at 6 PM):\nhttps://vk.com/topic-160179143_49455790 \nAll other info with more detailed rules and prizes in English:\nhttps://vk.com/horusheresylegions?w=page-160179143_54036721 \n 
URL:https://www.horusheresylegions.com/event/264th-vk-com-weekly-tournament/
END:VEVENT
BEGIN:VEVENT
DTSTART;TZID=UTC:20230910T190000
DTEND;TZID=UTC:20230910T190000
DTSTAMP:20260421T163451
CREATED:20230906T105903Z
LAST-MODIFIED:20230906T105903Z
UID:16215-1694372400-1694372400@www.horusheresylegions.com
SUMMARY:10th September 19:00 UTC Weekend Tournament
DESCRIPTION:Fall is coming! \nIn this tournament you are only allowed to play common (grey) and epic (orange) cards\, this includes weapons on your Titan if you choose to play one. Your warlord also needs to be of epic rarity as well. Standard mode cards only. \nAll matches are Bo3 and Conquest (win with 2 different warlords). Players need to choose at least 2 warlords from different factions and enter them in the Google Doc that will be pinned in the respective Discord channel. \nBans: \nRaven Guard \nSalamanders \n  \nAdditional bans may be added depending on community feedback. Check the ban list and other rules on the tournament’s challenge page.
URL:https://www.horusheresylegions.com/event/10th-september-1900-utc-weekend-tournament/
END:VEVENT
END:VCALENDAR