BEGIN:VCALENDAR
VERSION:2.0
PRODID:-//Horus Heresy: Legions - ECPv6.8.2.1//NONSGML v1.0//EN
CALSCALE:GREGORIAN
METHOD:PUBLISH
X-WR-CALNAME:Horus Heresy: Legions
X-ORIGINAL-URL:https://www.horusheresylegions.com
X-WR-CALDESC:Events for Horus Heresy: Legions
REFRESH-INTERVAL;VALUE=DURATION:PT1H
X-Robots-Tag:noindex
X-PUBLISHED-TTL:PT1H
BEGIN:VTIMEZONE
TZID:UTC
BEGIN:STANDARD
TZOFFSETFROM:+0000
TZOFFSETTO:+0000
TZNAME:UTC
DTSTART:20220101T000000
END:STANDARD
END:VTIMEZONE
BEGIN:VEVENT
DTSTART;TZID=UTC:20220706T080000
DTEND;TZID=UTC:20220706T170000
DTSTAMP:20260422T085318
CREATED:20220706T093802Z
LAST-MODIFIED:20220705T153808Z
UID:13747-1657094400-1657126800@www.horusheresylegions.com
SUMMARY:Wednesday Weekly Tournament
DESCRIPTION:
URL:https://www.horusheresylegions.com/event/33rd-mid-week-discord-tournament/
LOCATION:Legions Discord channel
END:VEVENT
BEGIN:VEVENT
DTSTART;TZID=UTC:20220709T080000
DTEND;TZID=UTC:20220709T170000
DTSTAMP:20260422T085318
CREATED:20220705T092718Z
LAST-MODIFIED:20220711T115742Z
UID:13729-1657353600-1657386000@www.horusheresylegions.com
SUMMARY:203rd VK.com Weekly Tournament
DESCRIPTION:Format: Best 2 of 3 matches; Conquest with announcing 3 Warlords\, but for a win in a round you need only to win with 2 of them; Single Elimination. \nThe tournament is going in Russian\, so you may need to use a translator to participate\, also you’ll need a vk.com account. \nRegistration will be there (topic will be open on the day of the tournament\, Sunday 10th\, and till 5.30 PM GMT +3\, the tournament will start at 6 PM):\nhttps://vk.com/topic-160179143_48936522 \nAll other info with more detailed rules and prizes in English:\nhttps://vk.com/horusheresylegions?w=page-160179143_54036721
URL:https://www.horusheresylegions.com/event/203rd-vk-com-weekly-tournament/
LOCATION:vk
END:VEVENT
BEGIN:VEVENT
DTSTART;TZID=UTC:20220709T080000
DTEND;TZID=UTC:20220709T170000
DTSTAMP:20260422T085318
CREATED:20220705T093356Z
LAST-MODIFIED:20220705T154056Z
UID:13738-1657353600-1657386000@www.horusheresylegions.com
SUMMARY:July Week 2 Discord Tournament
DESCRIPTION:“HOLD THE LINE” tournament (includes Beginner friendly features!) \n  \nJuly\, 9th. 18:00 UTC \n  \nBest of 3\, Conquest\, 3 warlords from 3 different factions \nNo Legendary cards and warlords. Created cards of such rarity is allowed to use. \n  \nSpecial guest for tournament: AERION MERSAROR \n  \nYour deck must include 15 cards with trait Frontline. Take note that you MUST contact your opponent and show your deck which you will use to prevent any situation of “wrong cards in deck”.  \n  \nBanned factions and warlords: \nKnight Houses\, Salamanders\, Imperial Fists\, Iron Warriors\, Lucius. \n  \nWARNING: ALL TITAN WARLORDS WILL BE FORCED TO PLAY AGAINST OTHER TITANS. IF YOUR OPPONENT HAVE NOT REGISTERED ANY TITAN – YOU CAN’T USE TITAN AGAINST HIM. \nBasic tournament rewards will be based on amount of players. \n  \nBeginner friendly features: \nBeginners are players with 50 lvl or less (no skulls) \n  \nFeature 1: You can ask Organiser to assist with deck building. This may include couple of practice matches to get how deck works. \nFeature 2: Any player could challenge Mersaror warlord. But only beginners may claim 100 coins for victory against Aerion. Remember – this is fair chalenge\, so you will have 3 attempts to win. For this challenge in addition to existing rules you can’t use any epic cards (if it was created – it’s OK to use).
URL:https://www.horusheresylegions.com/event/july-week-2-discord-tournament/
LOCATION:Legions Discord channel
END:VEVENT
BEGIN:VEVENT
DTSTART;TZID=UTC:20220713T080000
DTEND;TZID=UTC:20220713T170000
DTSTAMP:20260422T085318
CREATED:20220705T093828Z
LAST-MODIFIED:20220705T154018Z
UID:13749-1657699200-1657731600@www.horusheresylegions.com
SUMMARY:Wednesday Weekly Tournament
DESCRIPTION:
URL:https://www.horusheresylegions.com/event/34th-mid-week-discord-tournament/
LOCATION:Legions Discord channel
END:VEVENT
BEGIN:VEVENT
DTSTART;TZID=UTC:20220716T080000
DTEND;TZID=UTC:20220716T170000
DTSTAMP:20260422T085318
CREATED:20220705T092748Z
LAST-MODIFIED:20220705T092748Z
UID:13732-1657958400-1657990800@www.horusheresylegions.com
SUMMARY:204th VK.com Weekly Tournament
DESCRIPTION:
URL:https://www.horusheresylegions.com/event/204th-vk-com-weekly-tournament/
LOCATION:vk
END:VEVENT
BEGIN:VEVENT
DTSTART;TZID=UTC:20220716T080000
DTEND;TZID=UTC:20220716T170000
DTSTAMP:20260422T085318
CREATED:20220705T093452Z
LAST-MODIFIED:20220705T093452Z
UID:13740-1657958400-1657990800@www.horusheresylegions.com
SUMMARY:July Week 3 Discord Tournament
DESCRIPTION:
URL:https://www.horusheresylegions.com/event/july-week-3-discord-tournament/
LOCATION:Legions Discord channel
END:VEVENT
BEGIN:VEVENT
DTSTART;TZID=UTC:20220720T080000
DTEND;TZID=UTC:20220720T170000
DTSTAMP:20260422T085318
CREATED:20220705T093851Z
LAST-MODIFIED:20220705T154212Z
UID:13751-1658304000-1658336400@www.horusheresylegions.com
SUMMARY:Wednesday Weekly Tournament
DESCRIPTION:
URL:https://www.horusheresylegions.com/event/35th-mid-week-discord-tournament/
LOCATION:Legions Discord channel
END:VEVENT
BEGIN:VEVENT
DTSTART;TZID=UTC:20220723T080000
DTEND;TZID=UTC:20220723T170000
DTSTAMP:20260422T085318
CREATED:20220705T092822Z
LAST-MODIFIED:20220722T134203Z
UID:13734-1658563200-1658595600@www.horusheresylegions.com
SUMMARY:205th VK.com Weekly Tournament
DESCRIPTION:Format: Best 2 of 3 matches; Conquest with announcing 3 Warlords\, but for a win in a round you need only to win with 2 of them; Single Elimination. \nThe tournament is going in Russian\, so you may need to use a translator to participate\, also you’ll need a vk.com account. \nRegistration will be there (topic will be open on the day of the tournament\, Sunday 24th\, and till 5.30 PM GMT +3\, the tournament will start at 6 PM):\nhttps://vk.com/topic-160179143_48954928 \nAll other info with more detailed rules and prizes in English:\nhttps://vk.com/horusheresylegions?w=page-160179143_54029682
URL:https://www.horusheresylegions.com/event/205th-vk-com-weekly-tournament/
LOCATION:vk
END:VEVENT
BEGIN:VEVENT
DTSTART;TZID=UTC:20220723T080000
DTEND;TZID=UTC:20220723T170000
DTSTAMP:20260422T085318
CREATED:20220705T093608Z
LAST-MODIFIED:20220705T093608Z
UID:13742-1658563200-1658595600@www.horusheresylegions.com
SUMMARY:July Week 4 Discord Tournament
DESCRIPTION:
URL:https://www.horusheresylegions.com/event/july-week-4-discord-tournament/
LOCATION:Legions Discord channel
END:VEVENT
BEGIN:VEVENT
DTSTART;TZID=UTC:20220727T080000
DTEND;TZID=UTC:20220727T170000
DTSTAMP:20260422T085318
CREATED:20220705T154242Z
LAST-MODIFIED:20220705T154242Z
UID:13849-1658908800-1658941200@www.horusheresylegions.com
SUMMARY:Wednesday Weekly Tournament
DESCRIPTION:
URL:https://www.horusheresylegions.com/event/wednesday-weekly-tournament-10/
LOCATION:Legions Discord channel
END:VEVENT
BEGIN:VEVENT
DTSTART;TZID=UTC:20220730T080000
DTEND;TZID=UTC:20220730T170000
DTSTAMP:20260422T085318
CREATED:20220705T092853Z
LAST-MODIFIED:20220705T092853Z
UID:13736-1659168000-1659200400@www.horusheresylegions.com
SUMMARY:206th VK.com Weekly Tournament
DESCRIPTION:
URL:https://www.horusheresylegions.com/event/206th-vk-com-weekly-tournament/
LOCATION:vk
END:VEVENT
BEGIN:VEVENT
DTSTART;TZID=UTC:20220730T080000
DTEND;TZID=UTC:20220730T170000
DTSTAMP:20260422T085318
CREATED:20220705T093643Z
LAST-MODIFIED:20220705T093643Z
UID:13745-1659168000-1659200400@www.horusheresylegions.com
SUMMARY:July Week 5 Discord Tournament
DESCRIPTION:
URL:https://www.horusheresylegions.com/event/july-week-5-discord-tournament/
LOCATION:Legions Discord channel
END:VEVENT
END:VCALENDAR