BEGIN:VCALENDAR
VERSION:2.0
PRODID:-//Horus Heresy: Legions - ECPv6.8.2.1//NONSGML v1.0//EN
CALSCALE:GREGORIAN
METHOD:PUBLISH
X-WR-CALNAME:Horus Heresy: Legions
X-ORIGINAL-URL:https://www.horusheresylegions.com
X-WR-CALDESC:Events for Horus Heresy: Legions
REFRESH-INTERVAL;VALUE=DURATION:PT1H
X-Robots-Tag:noindex
X-PUBLISHED-TTL:PT1H
BEGIN:VTIMEZONE
TZID:UTC
BEGIN:STANDARD
TZOFFSETFROM:+0000
TZOFFSETTO:+0000
TZNAME:UTC
DTSTART:20220101T000000
END:STANDARD
END:VTIMEZONE
BEGIN:VEVENT
DTSTART;TZID=UTC:20220803T080000
DTEND;TZID=UTC:20220803T170000
DTSTAMP:20260422T085303
CREATED:20220802T115516Z
LAST-MODIFIED:20220802T115516Z
UID:14010-1659513600-1659546000@www.horusheresylegions.com
SUMMARY:Wednesday Weekly Tournament
DESCRIPTION:
URL:https://www.horusheresylegions.com/event/wednesday-weekly-tournament-11/
LOCATION:Legions Discord channel
END:VEVENT
BEGIN:VEVENT
DTSTART;TZID=UTC:20220806T080000
DTEND;TZID=UTC:20220806T170000
DTSTAMP:20260422T085303
CREATED:20220802T114444Z
LAST-MODIFIED:20220808T100930Z
UID:13993-1659772800-1659805200@www.horusheresylegions.com
SUMMARY:207th VK.com Weekly Tournament
DESCRIPTION:Format: Best 2 of 3 matches; Conquest with announcing 3 Warlords\, but for a win in a round you need only to win with 2 of them; Single Elimination. \nThe tournament is going in Russian\, so you may need to use a translator to participate\, also you’ll need a vk.com account. \nRegistration will be there (topic will be open on the day of the tournament\, Sunday 7th\, and till 5.30 PM GMT +3\, the tournament will start at 6 PM):\nhttps://vk.com/topic-160179143_48982954 \nAll other info with more detailed rules and prizes in English:\nhttps://vk.com/horusheresylegions?w=page-160179143_54036721
URL:https://www.horusheresylegions.com/event/207th-vk-com-weekly-tournament/
LOCATION:vk
END:VEVENT
BEGIN:VEVENT
DTSTART;TZID=UTC:20220806T080000
DTEND;TZID=UTC:20220806T170000
DTSTAMP:20260422T085303
CREATED:20220802T115117Z
LAST-MODIFIED:20220804T094311Z
UID:14001-1659772800-1659805200@www.horusheresylegions.com
SUMMARY:August Week 1 Discord Tournament
DESCRIPTION:0% Aggro\, 100% Fun\, No Titans allowed \n  \n6th of August 18:00 UTC Weekend Tournament \n  \nRules: \n  \nConquest – Select 3 Warlords from different factions. You must win with 2 of them to win the round. \n  \nYour warlord can not attack and you can not put 2 copies of the same card in your deck. Canis can not attack with his arms. \n  \nWarlords are to be put on the spreadsheet provided in Discord. 
URL:https://www.horusheresylegions.com/event/august-week-1-discord-tournament/
LOCATION:Legions Discord channel
END:VEVENT
BEGIN:VEVENT
DTSTART;TZID=UTC:20220810T080000
DTEND;TZID=UTC:20220810T170000
DTSTAMP:20260422T085303
CREATED:20220802T115535Z
LAST-MODIFIED:20220802T115535Z
UID:14012-1660118400-1660150800@www.horusheresylegions.com
SUMMARY:Wednesday Weekly Tournament
DESCRIPTION:
URL:https://www.horusheresylegions.com/event/wednesday-weekly-tournament-12/
LOCATION:Legions Discord channel
END:VEVENT
BEGIN:VEVENT
DTSTART;TZID=UTC:20220813T080000
DTEND;TZID=UTC:20220813T170000
DTSTAMP:20260422T085303
CREATED:20220802T114938Z
LAST-MODIFIED:20220816T144645Z
UID:13995-1660377600-1660410000@www.horusheresylegions.com
SUMMARY:208th VK.com Weekly Tournament
DESCRIPTION:Format: Best 2 of 3 matches; Conquest with announcing 3 Warlords\, but for a win in a round you need only to win with 2 of them; Single Elimination. \nThe tournament is going in Russian\, so you may need to use a translator to participate\, also you’ll need a vk.com account. \nRegistration will be there (topic will be open on the day of the tournament\, Saturday 13th\, and till 5.30 PM GMT +3\, the tournament will start at 6 PM):\nhttps://vk.com/topic-160179143_48992752 \nAll other info with more detailed rules and prizes in English:\nhttps://vk.com/horusheresylegions?w=page-160179143_54029682
URL:https://www.horusheresylegions.com/event/208th-vk-com-weekly-tournament/
LOCATION:vk
END:VEVENT
BEGIN:VEVENT
DTSTART;TZID=UTC:20220813T080000
DTEND;TZID=UTC:20220813T170000
DTSTAMP:20260422T085303
CREATED:20220802T115146Z
LAST-MODIFIED:20220804T094555Z
UID:14004-1660377600-1660410000@www.horusheresylegions.com
SUMMARY:August Week 2 Discord Tournament
DESCRIPTION:Isstvan III – Beginner Friendly features included! 2 warlords from 2 different factions Both warlords must be from same side – either loyalist or traitor Best 2 of 3 Matches\, Single Elimination\, Conquest (you must win with both of your warlords to proceed further) Only Isstvan 3 expansion cards are allowed. Galaxy in Flames and Titandeath expansion cards and warlords are NOT allowed. Only exception that allowed is Mission type cards (allowed only faction sided: World Eaters can’t put Imperial Army mission into deck and so on). Cards from other expasions created during game are allowed (Example: Ornatov created Kai Zulane – he can use it). Isstvan 3 battle gone not by Warmaster Horus‘ plans. Now he is angry and ready to kill everyone standing on his way! Prizes will depend on number of players Loyalists: Garviel Loken\, Tarik Torgaddon\, Shabran Darr\, Ehrlen\, Saul Tarvitz\, Nathaniel Garro\, Colonel Ornatov\, Calleb Decima. Traitors: Ezekyle Abbadon\, Horus Lupercal\, Angron\, Kharn\, Fabius Bile\, Fulgrim\, Calas Typhon\, Durak Rask\, Mortarion The Reaper\, Kelbor-Hal\, Ingethel P.S.: Lucius is out – nobody likes sides changing! Basic tournament rewards will be based on amount of players. Beginner friendly features: Beginners are players with 50 lvl or less (no skulls) Feature 1: You can ask Organiser to assist with deck building. This may include couple of practice matches to get how deck works. Feature 2: Any player could challenge Warmaster Horus warlord. But only beginners may claim 100 coins for victory against him. Remember – this is fair chalenge\, so you will have 3 attempts to win. For this challenge in addition to existing rules you can’t use any legendary cards (if it was created – it’s OK to use)
URL:https://www.horusheresylegions.com/event/august-week-2-discord-tournament/
LOCATION:Legions Discord channel
END:VEVENT
BEGIN:VEVENT
DTSTART;TZID=UTC:20220817T080000
DTEND;TZID=UTC:20220817T170000
DTSTAMP:20260422T085303
CREATED:20220802T115554Z
LAST-MODIFIED:20220802T115554Z
UID:14014-1660723200-1660755600@www.horusheresylegions.com
SUMMARY:Wednesday Weekly Tournament
DESCRIPTION:
URL:https://www.horusheresylegions.com/event/wednesday-weekly-tournament-13/
LOCATION:Legions Discord channel
END:VEVENT
BEGIN:VEVENT
DTSTART;TZID=UTC:20220820T080000
DTEND;TZID=UTC:20220820T170000
DTSTAMP:20260422T085303
CREATED:20220802T114959Z
LAST-MODIFIED:20220802T114959Z
UID:13997-1660982400-1661014800@www.horusheresylegions.com
SUMMARY:209th VK.com Weekly Tournament
DESCRIPTION:
URL:https://www.horusheresylegions.com/event/209th-vk-com-weekly-tournament/
LOCATION:vk
END:VEVENT
BEGIN:VEVENT
DTSTART;TZID=UTC:20220820T080000
DTEND;TZID=UTC:20220820T170000
DTSTAMP:20260422T085303
CREATED:20220802T115212Z
LAST-MODIFIED:20220804T094651Z
UID:14006-1660982400-1661014800@www.horusheresylegions.com
SUMMARY:August Week 3 Discord Tournament
DESCRIPTION:Weekly – Week 3- 20.August.2022 UTC 1600 \nGreen Tourney  \nRules: \n  \nConquest – Select 3 Warlords from different factions. You must win with 2 of them to win the round. Only green or common cards are allowed. Generated cards are allowed.  Legendary warlords are banned. If under prestige level 1\, 2 legendaries and 4 epics are allowed to be used.  \nBans:  \nTitan Legions. \n  \nWarlords are to be put on the spreadsheet provided in Discord.
URL:https://www.horusheresylegions.com/event/august-week-3-discord-tournament/
LOCATION:Legions Discord channel
END:VEVENT
BEGIN:VEVENT
DTSTART;TZID=UTC:20220824T080000
DTEND;TZID=UTC:20220824T170000
DTSTAMP:20260422T085303
CREATED:20220802T115712Z
LAST-MODIFIED:20220802T115712Z
UID:14016-1661328000-1661360400@www.horusheresylegions.com
SUMMARY:Wednesday Weekly Tournament
DESCRIPTION:
URL:https://www.horusheresylegions.com/event/wednesday-weekly-tournament-14/
LOCATION:Legions Discord channel
END:VEVENT
BEGIN:VEVENT
DTSTART;TZID=UTC:20220827T080000
DTEND;TZID=UTC:20220827T170000
DTSTAMP:20260422T085303
CREATED:20220802T115025Z
LAST-MODIFIED:20220802T115025Z
UID:13999-1661587200-1661619600@www.horusheresylegions.com
SUMMARY:210th VK.com Weekly Tournament
DESCRIPTION:
URL:https://www.horusheresylegions.com/event/210th-vk-com-weekly-tournament/
LOCATION:vk
END:VEVENT
BEGIN:VEVENT
DTSTART;TZID=UTC:20220827T080000
DTEND;TZID=UTC:20220827T170000
DTSTAMP:20260422T085303
CREATED:20220802T115234Z
LAST-MODIFIED:20220804T094824Z
UID:14008-1661587200-1661619600@www.horusheresylegions.com
SUMMARY:August Week 4 Discord Tournament
DESCRIPTION:“There can be only one” \n  \nPlayers are only allowed to control 1 troop of each type (vehicle\, astartes\, infantry\, etc) AT ALL TIMES. Controlling troops with different types is allowed as long as each type only has 1 troop representing it on your board. \n  \nBest of 3\, Conquest\, 3 warlords from 3 different factions\, warlord spreadsheet will be pinned in the respective tournament channel in the Discord\, dm Raziel#0278 your warlord choices. \n  \nBanned cards: \n  \nSleeper Operative\nMyzmadra \n  \nThese cards are not allowed to be played even if generated. \n  \nBanned Factions: \n  \nLoyalist Legios \nTraitor Legios \nKnight Houses
URL:https://www.horusheresylegions.com/event/august-week-4-discord-tournament/
LOCATION:Legions Discord channel
END:VEVENT
BEGIN:VEVENT
DTSTART;TZID=UTC:20220831T080000
DTEND;TZID=UTC:20220831T170000
DTSTAMP:20260422T085303
CREATED:20220802T123450Z
LAST-MODIFIED:20220802T123450Z
UID:14018-1661932800-1661965200@www.horusheresylegions.com
SUMMARY:Wednesday Weekly Tournament
DESCRIPTION:
URL:https://www.horusheresylegions.com/event/wednesday-weekly-tournament-15/
END:VEVENT
END:VCALENDAR